Package: BufferedMatrix Version: 1.68.0 Command: /home/biocbuild/bbs-3.19-bioc/R/bin/R CMD build --keep-empty-dirs --no-resave-data BufferedMatrix StartedAt: 2024-10-16 17:24:30 -0400 (Wed, 16 Oct 2024) EndedAt: 2024-10-16 17:24:38 -0400 (Wed, 16 Oct 2024) EllapsedTime: 8.0 seconds RetCode: 0 Status: OK PackageFile: BufferedMatrix_1.68.0.tar.gz PackageFileSize: 486.3 KiB