Package: BufferedMatrix Version: 1.68.0 Command: /Library/Frameworks/R.framework/Resources/bin/R CMD INSTALL BufferedMatrix StartedAt: 2024-10-16 15:05:51 -0400 (Wed, 16 Oct 2024) EndedAt: 2024-10-16 15:06:20 -0400 (Wed, 16 Oct 2024) EllapsedTime: 29.4 seconds RetCode: 0 Status: OK