Package: BufferedMatrix Version: 1.68.0 Command: /Library/Frameworks/R.framework/Resources/bin/R CMD build --keep-empty-dirs --no-resave-data BufferedMatrix StartedAt: 2024-10-16 17:38:12 -0400 (Wed, 16 Oct 2024) EndedAt: 2024-10-16 17:38:41 -0400 (Wed, 16 Oct 2024) EllapsedTime: 28.9 seconds RetCode: 0 Status: OK PackageFile: BufferedMatrix_1.68.0.tar.gz PackageFileSize: 629.4 KiB