Package: BufferedMatrix Version: 1.68.0 Command: rm -rf BufferedMatrix.buildbin-libdir && mkdir BufferedMatrix.buildbin-libdir && /Users/biocbuild/BBS/utils/build-universal.sh BufferedMatrix_1.68.0.tar.gz /Library/Frameworks/R.framework/Resources/bin/R BufferedMatrix.buildbin-libdir StartedAt: 2024-10-17 15:45:48 -0400 (Thu, 17 Oct 2024) EndedAt: 2024-10-17 15:46:04 -0400 (Thu, 17 Oct 2024) EllapsedTime: 16.2 seconds RetCode: 0 Status: OK PackageFile: BufferedMatrix_1.68.0.tgz PackageFileSize: 709.6 KiB