Package: BufferedMatrix Version: 1.68.0 Command: /Library/Frameworks/R.framework/Resources/bin/R CMD INSTALL BufferedMatrix StartedAt: 2024-06-09 15:02:05 -0400 (Sun, 09 Jun 2024) EndedAt: 2024-06-09 15:02:14 -0400 (Sun, 09 Jun 2024) EllapsedTime: 8.9 seconds RetCode: 0 Status: OK