Package: BufferedMatrix Version: 1.68.0 Command: /Library/Frameworks/R.framework/Resources/bin/R CMD check --install=check:BufferedMatrix.install-out.txt --library=/Library/Frameworks/R.framework/Resources/library --no-vignettes --timings BufferedMatrix_1.68.0.tar.gz StartedAt: 2024-10-17 14:39:57 -0400 (Thu, 17 Oct 2024) EndedAt: 2024-10-17 14:40:43 -0400 (Thu, 17 Oct 2024) EllapsedTime: 45.5 seconds RetCode: 0 Status: WARNINGS CheckDir: BufferedMatrix.Rcheck Warnings: 1