Package: BufferedMatrix Version: 1.68.0 Command: rm -rf BufferedMatrix.buildbin-libdir && mkdir BufferedMatrix.buildbin-libdir && /Users/biocbuild/BBS/utils/build-universal.sh BufferedMatrix_1.68.0.tar.gz /Library/Frameworks/R.framework/Resources/bin/R BufferedMatrix.buildbin-libdir StartedAt: 2024-10-18 17:36:18 -0400 (Fri, 18 Oct 2024) EndedAt: 2024-10-18 17:36:28 -0400 (Fri, 18 Oct 2024) EllapsedTime: 10.1 seconds RetCode: 0 Status: OK PackageFile: BufferedMatrix_1.68.0.tgz PackageFileSize: 707.9 KiB