Package: BubbleTree Version: 2.34.0 Command: /Library/Frameworks/R.framework/Resources/bin/R CMD INSTALL BubbleTree StartedAt: 2024-06-09 16:23:22 -0400 (Sun, 09 Jun 2024) EndedAt: 2024-06-09 16:24:41 -0400 (Sun, 09 Jun 2024) EllapsedTime: 79.2 seconds RetCode: 0 Status: OK