Package: BubbleTree Version: 2.34.0 Command: /Library/Frameworks/R.framework/Resources/bin/R CMD INSTALL BubbleTree StartedAt: 2024-10-16 17:20:28 -0400 (Wed, 16 Oct 2024) EndedAt: 2024-10-16 17:21:31 -0400 (Wed, 16 Oct 2024) EllapsedTime: 62.7 seconds RetCode: 0 Status: OK