Package: BrowserViz Version: 2.26.0 Command: rm -rf BrowserViz.buildbin-libdir && mkdir BrowserViz.buildbin-libdir && E:\biocbuild\bbs-3.19-bioc\R\bin\R.exe CMD INSTALL --build --library=BrowserViz.buildbin-libdir BrowserViz_2.26.0.tar.gz StartedAt: 2024-10-17 07:27:35 -0400 (Thu, 17 Oct 2024) EndedAt: 2024-10-17 07:27:54 -0400 (Thu, 17 Oct 2024) EllapsedTime: 18.1 seconds RetCode: 0 Status: OK PackageFile: BrowserViz_2.26.0.zip PackageFileSize: 422.9 KiB