Package: BrowserViz Version: 2.26.0 Command: /home/biocbuild/bbs-3.19-bioc/R/bin/R CMD build --keep-empty-dirs --no-resave-data BrowserViz StartedAt: 2024-10-16 17:24:16 -0400 (Wed, 16 Oct 2024) EndedAt: 2024-10-16 17:24:22 -0400 (Wed, 16 Oct 2024) EllapsedTime: 6.0 seconds RetCode: 0 Status: OK PackageFile: BrowserViz_2.26.0.tar.gz PackageFileSize: 240.9 KiB