Package: BrowserViz Version: 2.26.0 Command: /Library/Frameworks/R.framework/Resources/bin/R CMD build --keep-empty-dirs --no-resave-data BrowserViz StartedAt: 2024-10-16 17:37:48 -0400 (Wed, 16 Oct 2024) EndedAt: 2024-10-16 17:38:04 -0400 (Wed, 16 Oct 2024) EllapsedTime: 15.2 seconds RetCode: 0 Status: OK PackageFile: BrowserViz_2.26.0.tar.gz PackageFileSize: 240.9 KiB