Package: BrowserViz Version: 2.26.0 Command: /Library/Frameworks/R.framework/Resources/bin/R CMD check --install=check:BrowserViz.install-out.txt --library=/Library/Frameworks/R.framework/Resources/library --no-vignettes --timings BrowserViz_2.26.0.tar.gz StartedAt: 2024-06-10 09:17:26 -0400 (Mon, 10 Jun 2024) EndedAt: 2024-06-10 09:18:25 -0400 (Mon, 10 Jun 2024) EllapsedTime: 58.8 seconds RetCode: 0 Status: OK CheckDir: BrowserViz.Rcheck Warnings: 0