Package: BrowserViz Version: 2.26.0 Command: rm -rf BrowserViz.buildbin-libdir && mkdir BrowserViz.buildbin-libdir && /Users/biocbuild/BBS/utils/build-universal.sh BrowserViz_2.26.0.tar.gz /Library/Frameworks/R.framework/Resources/bin/R BrowserViz.buildbin-libdir StartedAt: 2024-10-18 17:35:35 -0400 (Fri, 18 Oct 2024) EndedAt: 2024-10-18 17:35:41 -0400 (Fri, 18 Oct 2024) EllapsedTime: 5.6 seconds RetCode: 0 Status: OK PackageFile: BrowserViz_2.26.0.tgz PackageFileSize: 414.4 KiB