Package: BridgeDbR Version: 2.14.0 Command: /Library/Frameworks/R.framework/Resources/bin/R CMD check --install=check:BridgeDbR.install-out.txt --library=/Library/Frameworks/R.framework/Resources/library --no-vignettes --timings BridgeDbR_2.14.0.tar.gz StartedAt: 2024-06-09 19:10:17 -0400 (Sun, 09 Jun 2024) EndedAt: 2024-06-09 19:10:58 -0400 (Sun, 09 Jun 2024) EllapsedTime: 41.3 seconds RetCode: 0 Status: OK CheckDir: BridgeDbR.Rcheck Warnings: 0