Package: BridgeDbR Version: 2.14.0 Command: /Library/Frameworks/R.framework/Resources/bin/R CMD INSTALL BridgeDbR StartedAt: 2024-10-16 15:34:18 -0400 (Wed, 16 Oct 2024) EndedAt: 2024-10-16 15:34:22 -0400 (Wed, 16 Oct 2024) EllapsedTime: 4.2 seconds RetCode: 0 Status: OK