Package: BloodGen3Module Version: 1.12.0 Command: E:\biocbuild\bbs-3.19-bioc\R\bin\R.exe CMD check --no-multiarch --install=check:BloodGen3Module.install-out.txt --library=E:\biocbuild\bbs-3.19-bioc\R\library --no-vignettes --timings BloodGen3Module_1.12.0.tar.gz StartedAt: 2024-10-16 23:25:21 -0400 (Wed, 16 Oct 2024) EndedAt: 2024-10-16 23:32:56 -0400 (Wed, 16 Oct 2024) EllapsedTime: 454.5 seconds RetCode: 0 Status: WARNINGS CheckDir: BloodGen3Module.Rcheck Warnings: 1