Package: BloodGen3Module Version: 1.12.0 Command: rm -rf BloodGen3Module.buildbin-libdir && mkdir BloodGen3Module.buildbin-libdir && /Users/biocbuild/BBS/utils/build-universal.sh BloodGen3Module_1.12.0.tar.gz /Library/Frameworks/R.framework/Resources/bin/R BloodGen3Module.buildbin-libdir StartedAt: 2024-10-17 15:44:34 -0400 (Thu, 17 Oct 2024) EndedAt: 2024-10-17 15:45:45 -0400 (Thu, 17 Oct 2024) EllapsedTime: 71.7 seconds RetCode: 0 Status: OK PackageFile: BloodGen3Module_1.12.0.tgz PackageFileSize: 240.5 KiB