Package: BloodGen3Module Version: 1.12.0 Command: /Library/Frameworks/R.framework/Resources/bin/R CMD check --install=check:BloodGen3Module.install-out.txt --library=/Library/Frameworks/R.framework/Resources/library --no-vignettes --timings BloodGen3Module_1.12.0.tar.gz StartedAt: 2024-06-09 19:07:28 -0400 (Sun, 09 Jun 2024) EndedAt: 2024-06-09 19:13:10 -0400 (Sun, 09 Jun 2024) EllapsedTime: 341.8 seconds RetCode: 0 Status: WARNINGS CheckDir: BloodGen3Module.Rcheck Warnings: 1