Package: BloodGen3Module Version: 1.12.0 Command: /home/biocbuild/R/R-beta-2024-04-15_r86425/bin/R CMD build --keep-empty-dirs --no-resave-data BloodGen3Module StartedAt: 2024-05-08 22:53:07 -0000 (Wed, 08 May 2024) EndedAt: 2024-05-08 22:59:41 -0000 (Wed, 08 May 2024) EllapsedTime: 393.5 seconds RetCode: 0 Status: OK PackageFile: BloodGen3Module_1.12.0.tar.gz PackageFileSize: 179.3 KiB