Package: BloodGen3Module Version: 1.12.0 Command: /Library/Frameworks/R.framework/Resources/bin/R CMD check --install=check:BloodGen3Module.install-out.txt --library=/Library/Frameworks/R.framework/Resources/library --no-vignettes --timings BloodGen3Module_1.12.0.tar.gz StartedAt: 2024-06-10 09:05:23 -0400 (Mon, 10 Jun 2024) EndedAt: 2024-06-10 09:12:52 -0400 (Mon, 10 Jun 2024) EllapsedTime: 449.0 seconds RetCode: 0 Status: WARNINGS CheckDir: BloodGen3Module.Rcheck Warnings: 1