Package: BloodGen3Module Version: 1.12.0 Command: /Library/Frameworks/R.framework/Resources/bin/R CMD build --keep-empty-dirs --no-resave-data BloodGen3Module StartedAt: 2024-06-09 18:51:15 -0400 (Sun, 09 Jun 2024) EndedAt: 2024-06-09 18:52:48 -0400 (Sun, 09 Jun 2024) EllapsedTime: 92.9 seconds RetCode: 0 Status: OK PackageFile: BloodGen3Module_1.12.0.tar.gz PackageFileSize: 178.7 KiB