Package: BloodGen3Module Version: 1.12.0 Command: /Library/Frameworks/R.framework/Resources/bin/R CMD build --keep-empty-dirs --no-resave-data BloodGen3Module StartedAt: 2024-10-16 20:35:38 -0400 (Wed, 16 Oct 2024) EndedAt: 2024-10-16 20:37:07 -0400 (Wed, 16 Oct 2024) EllapsedTime: 88.3 seconds RetCode: 0 Status: OK PackageFile: BloodGen3Module_1.12.0.tar.gz PackageFileSize: 178.7 KiB