Package: Biostrings Version: 2.72.1 Command: E:\biocbuild\bbs-3.19-bioc\R\bin\R.exe CMD INSTALL Biostrings StartedAt: 2024-10-16 16:09:20 -0400 (Wed, 16 Oct 2024) EndedAt: 2024-10-16 16:11:57 -0400 (Wed, 16 Oct 2024) EllapsedTime: 157.3 seconds RetCode: 0 Status: OK