Package: Biostrings Version: 2.72.1 Command: E:\biocbuild\bbs-3.19-bioc\R\bin\R.exe CMD check --no-multiarch --install=check:Biostrings.install-out.txt --library=E:\biocbuild\bbs-3.19-bioc\R\library --no-vignettes --timings Biostrings_2.72.1.tar.gz StartedAt: 2024-10-16 23:22:42 -0400 (Wed, 16 Oct 2024) EndedAt: 2024-10-16 23:33:16 -0400 (Wed, 16 Oct 2024) EllapsedTime: 633.5 seconds RetCode: 0 Status: WARNINGS CheckDir: Biostrings.Rcheck Warnings: 2