Package: Biostrings Version: 2.72.1 Command: /home/biocbuild/bbs-3.19-bioc/R/bin/R CMD check --install=check:Biostrings.install-out.txt --library=/home/biocbuild/bbs-3.19-bioc/R/site-library --timings Biostrings_2.72.1.tar.gz StartedAt: 2024-10-16 22:11:26 -0400 (Wed, 16 Oct 2024) EndedAt: 2024-10-16 22:20:12 -0400 (Wed, 16 Oct 2024) EllapsedTime: 526.1 seconds RetCode: 0 Status: WARNINGS CheckDir: Biostrings.Rcheck Warnings: 1