Package: Biostrings Version: 2.72.1 Command: /Library/Frameworks/R.framework/Resources/bin/R CMD INSTALL Biostrings StartedAt: 2024-10-16 15:14:17 -0400 (Wed, 16 Oct 2024) EndedAt: 2024-10-16 15:15:34 -0400 (Wed, 16 Oct 2024) EllapsedTime: 76.9 seconds RetCode: 0 Status: OK