Package: Biostrings Version: 2.72.1 Command: /Library/Frameworks/R.framework/Resources/bin/R CMD check --install=check:Biostrings.install-out.txt --library=/Library/Frameworks/R.framework/Resources/library --no-vignettes --timings Biostrings_2.72.1.tar.gz StartedAt: 2024-10-17 01:55:51 -0400 (Thu, 17 Oct 2024) EndedAt: 2024-10-17 02:13:22 -0400 (Thu, 17 Oct 2024) EllapsedTime: 1051.8 seconds RetCode: 0 Status: WARNINGS CheckDir: Biostrings.Rcheck Warnings: 1