Package: Biostrings Version: 2.72.1 Command: rm -rf Biostrings.buildbin-libdir && mkdir Biostrings.buildbin-libdir && /Users/biocbuild/BBS/utils/build-universal.sh Biostrings_2.72.1.tar.gz /Library/Frameworks/R.framework/Resources/bin/R Biostrings.buildbin-libdir StartedAt: 2024-10-17 15:44:03 -0400 (Thu, 17 Oct 2024) EndedAt: 2024-10-17 15:45:27 -0400 (Thu, 17 Oct 2024) EllapsedTime: 84.5 seconds RetCode: 0 Status: OK PackageFile: Biostrings_2.72.1.tgz PackageFileSize: 13.32 MiB