Package: Biostrings Version: 2.72.1 Command: /Library/Frameworks/R.framework/Resources/bin/R CMD INSTALL Biostrings StartedAt: 2024-06-09 15:08:08 -0400 (Sun, 09 Jun 2024) EndedAt: 2024-06-09 15:08:41 -0400 (Sun, 09 Jun 2024) EllapsedTime: 33.0 seconds RetCode: 0 Status: OK