Package: Biostrings Version: 2.72.1 Command: /Library/Frameworks/R.framework/Resources/bin/R CMD INSTALL Biostrings StartedAt: 2024-10-16 15:51:24 -0400 (Wed, 16 Oct 2024) EndedAt: 2024-10-16 15:51:58 -0400 (Wed, 16 Oct 2024) EllapsedTime: 34.8 seconds RetCode: 0 Status: OK