Package: Biostrings Version: 2.72.1 Command: rm -rf Biostrings.buildbin-libdir && mkdir Biostrings.buildbin-libdir && /Users/biocbuild/BBS/utils/build-universal.sh Biostrings_2.72.1.tar.gz /Library/Frameworks/R.framework/Resources/bin/R Biostrings.buildbin-libdir StartedAt: 2024-10-18 17:32:44 -0400 (Fri, 18 Oct 2024) EndedAt: 2024-10-18 17:33:31 -0400 (Fri, 18 Oct 2024) EllapsedTime: 47.6 seconds RetCode: 0 Status: OK PackageFile: Biostrings_2.72.1.tgz PackageFileSize: 13.32 MiB