Package: Biostrings Version: 2.72.1 Maintainer: Hervé Pagès MaintainerEmail: hpages.on.github at gmail.com git_url: https://git.bioconductor.org/packages/Biostrings git_branch: RELEASE_3_19 git_last_commit: 959b3ba git_last_commit_date: 2024-05-31 00:43:13 -0400 (Fri, 31 May 2024)