Package: BiocWorkflowTools Version: 1.30.0 Command: E:\biocbuild\bbs-3.19-bioc\R\bin\R.exe CMD INSTALL BiocWorkflowTools StartedAt: 2024-10-16 16:45:06 -0400 (Wed, 16 Oct 2024) EndedAt: 2024-10-16 16:45:21 -0400 (Wed, 16 Oct 2024) EllapsedTime: 15.1 seconds RetCode: 0 Status: OK