Package: BiocWorkflowTools Version: 1.30.0 Command: E:\biocbuild\bbs-3.19-bioc\R\bin\R.exe CMD check --no-multiarch --install=check:BiocWorkflowTools.install-out.txt --library=E:\biocbuild\bbs-3.19-bioc\R\library --no-vignettes --timings BiocWorkflowTools_1.30.0.tar.gz StartedAt: 2024-10-16 23:16:19 -0400 (Wed, 16 Oct 2024) EndedAt: 2024-10-16 23:18:04 -0400 (Wed, 16 Oct 2024) EllapsedTime: 105.7 seconds RetCode: 0 Status: OK CheckDir: BiocWorkflowTools.Rcheck Warnings: 0