Package: BiocWorkflowTools Version: 1.30.0 Command: chmod a+r BiocWorkflowTools -R && E:\biocbuild\bbs-3.19-bioc\R\bin\R.exe CMD build --keep-empty-dirs --no-resave-data BiocWorkflowTools StartedAt: 2024-10-16 17:51:27 -0400 (Wed, 16 Oct 2024) EndedAt: 2024-10-16 17:51:45 -0400 (Wed, 16 Oct 2024) EllapsedTime: 18.1 seconds RetCode: 0 Status: OK PackageFile: BiocWorkflowTools_1.30.0.tar.gz PackageFileSize: 974.9 KiB