Package: BiocWorkflowTools Version: 1.30.0 Command: rm -rf BiocWorkflowTools.buildbin-libdir && mkdir BiocWorkflowTools.buildbin-libdir && E:\biocbuild\bbs-3.19-bioc\R\bin\R.exe CMD INSTALL --build --library=BiocWorkflowTools.buildbin-libdir BiocWorkflowTools_1.30.0.tar.gz StartedAt: 2024-10-17 07:25:13 -0400 (Thu, 17 Oct 2024) EndedAt: 2024-10-17 07:26:47 -0400 (Thu, 17 Oct 2024) EllapsedTime: 94.1 seconds RetCode: 0 Status: OK PackageFile: BiocWorkflowTools_1.30.0.zip PackageFileSize: 694.2 KiB