Package: BiocWorkflowTools Version: 1.30.0 Command: /home/biocbuild/bbs-3.19-bioc/R/bin/R CMD INSTALL BiocWorkflowTools StartedAt: 2024-10-16 16:19:38 -0400 (Wed, 16 Oct 2024) EndedAt: 2024-10-16 16:19:41 -0400 (Wed, 16 Oct 2024) EllapsedTime: 3.2 seconds RetCode: 0 Status: OK