Package: BiocWorkflowTools Version: 1.30.0 Command: rm -rf BiocWorkflowTools.buildbin-libdir && mkdir BiocWorkflowTools.buildbin-libdir && /Users/biocbuild/BBS/utils/build-universal.sh BiocWorkflowTools_1.30.0.tar.gz /Library/Frameworks/R.framework/Resources/bin/R BiocWorkflowTools.buildbin-libdir StartedAt: 2024-10-17 15:43:18 -0400 (Thu, 17 Oct 2024) EndedAt: 2024-10-17 15:43:27 -0400 (Thu, 17 Oct 2024) EllapsedTime: 8.8 seconds RetCode: 0 Status: OK PackageFile: BiocWorkflowTools_1.30.0.tgz PackageFileSize: 688.2 KiB