Package: BiocSklearn Version: 1.26.1 Command: E:\biocbuild\bbs-3.19-bioc\R\bin\R.exe CMD check --no-multiarch --install=check:BiocSklearn.install-out.txt --library=E:\biocbuild\bbs-3.19-bioc\R\library --no-vignettes --timings BiocSklearn_1.26.1.tar.gz StartedAt: 2024-10-16 23:15:03 -0400 (Wed, 16 Oct 2024) EndedAt: 2024-10-16 23:19:54 -0400 (Wed, 16 Oct 2024) EllapsedTime: 291.4 seconds RetCode: 0 Status: OK CheckDir: BiocSklearn.Rcheck Warnings: 0