Package: BiocSklearn Version: 1.26.1 Command: chmod a+r BiocSklearn -R && E:\biocbuild\bbs-3.19-bioc\R\bin\R.exe CMD build --keep-empty-dirs --no-resave-data BiocSklearn StartedAt: 2024-10-16 17:50:35 -0400 (Wed, 16 Oct 2024) EndedAt: 2024-10-16 17:52:55 -0400 (Wed, 16 Oct 2024) EllapsedTime: 140.0 seconds RetCode: 0 Status: OK PackageFile: BiocSklearn_1.26.1.tar.gz PackageFileSize: 32.52 MiB