Package: BiocSklearn Version: 1.26.1 Command: rm -rf BiocSklearn.buildbin-libdir && mkdir BiocSklearn.buildbin-libdir && E:\biocbuild\bbs-3.19-bioc\R\bin\R.exe CMD INSTALL --build --library=BiocSklearn.buildbin-libdir BiocSklearn_1.26.1.tar.gz StartedAt: 2024-10-17 07:24:56 -0400 (Thu, 17 Oct 2024) EndedAt: 2024-10-17 07:25:45 -0400 (Thu, 17 Oct 2024) EllapsedTime: 49.6 seconds RetCode: 0 Status: OK PackageFile: BiocSklearn_1.26.1.zip PackageFileSize: 32.73 MiB