Package: BiocSklearn Version: 1.26.1 Command: /home/biocbuild/bbs-3.19-bioc/R/bin/R CMD check --install=check:BiocSklearn.install-out.txt --library=/home/biocbuild/bbs-3.19-bioc/R/site-library --timings BiocSklearn_1.26.1.tar.gz StartedAt: 2024-10-16 22:05:42 -0400 (Wed, 16 Oct 2024) EndedAt: 2024-10-16 22:08:27 -0400 (Wed, 16 Oct 2024) EllapsedTime: 165.3 seconds RetCode: 0 Status: OK CheckDir: BiocSklearn.Rcheck Warnings: 0