Package: BiocSklearn Version: 1.26.1 Command: /home/biocbuild/bbs-3.19-bioc/R/bin/R CMD build --keep-empty-dirs --no-resave-data BiocSklearn StartedAt: 2024-10-16 17:14:37 -0400 (Wed, 16 Oct 2024) EndedAt: 2024-10-16 17:15:13 -0400 (Wed, 16 Oct 2024) EllapsedTime: 36.1 seconds RetCode: 0 Status: OK PackageFile: BiocSklearn_1.26.1.tar.gz PackageFileSize: 32.52 MiB