Package: BiocSklearn Version: 1.26.1 Command: rm -rf BiocSklearn.buildbin-libdir && mkdir BiocSklearn.buildbin-libdir && /Users/biocbuild/BBS/utils/build-universal.sh BiocSklearn_1.26.1.tar.gz /Library/Frameworks/R.framework/Resources/bin/R BiocSklearn.buildbin-libdir StartedAt: 2024-10-17 15:43:06 -0400 (Thu, 17 Oct 2024) EndedAt: 2024-10-17 15:44:10 -0400 (Thu, 17 Oct 2024) EllapsedTime: 64.0 seconds RetCode: 0 Status: OK PackageFile: BiocSklearn_1.26.1.tgz PackageFileSize: 32.73 MiB