Package: BiocSklearn Version: 1.26.0 Command: rm -rf BiocSklearn.buildbin-libdir && mkdir BiocSklearn.buildbin-libdir && /Users/biocbuild/BBS/utils/build-universal.sh BiocSklearn_1.26.0.tar.gz /Library/Frameworks/R.framework/Resources/bin/R BiocSklearn.buildbin-libdir StartedAt: 2024-06-10 00:08:36 -0400 (Mon, 10 Jun 2024) EndedAt: 2024-06-10 00:09:12 -0400 (Mon, 10 Jun 2024) EllapsedTime: 36.2 seconds RetCode: 0 Status: OK PackageFile: BiocSklearn_1.26.0.tgz PackageFileSize: 32.73 MiB