Package: BiocSingular Version: 1.20.0 Command: rm -rf BiocSingular.buildbin-libdir && mkdir BiocSingular.buildbin-libdir && E:\biocbuild\bbs-3.19-bioc\R\bin\R.exe CMD INSTALL --build --library=BiocSingular.buildbin-libdir BiocSingular_1.20.0.tar.gz StartedAt: 2024-10-17 07:24:50 -0400 (Thu, 17 Oct 2024) EndedAt: 2024-10-17 07:25:59 -0400 (Thu, 17 Oct 2024) EllapsedTime: 69.1 seconds RetCode: 0 Status: OK PackageFile: BiocSingular_1.20.0.zip PackageFileSize: 1.217 MiB