Package: BiocSingular Version: 1.20.0 Command: rm -rf BiocSingular.buildbin-libdir && mkdir BiocSingular.buildbin-libdir && /Users/biocbuild/BBS/utils/build-universal.sh BiocSingular_1.20.0.tar.gz /Library/Frameworks/R.framework/Resources/bin/R BiocSingular.buildbin-libdir StartedAt: 2024-10-17 15:43:02 -0400 (Thu, 17 Oct 2024) EndedAt: 2024-10-17 15:44:10 -0400 (Thu, 17 Oct 2024) EllapsedTime: 68.4 seconds RetCode: 0 Status: OK PackageFile: BiocSingular_1.20.0.tgz PackageFileSize: 928.2 KiB