Package: BiocSet Version: 1.18.0 Command: rm -rf BiocSet.buildbin-libdir && mkdir BiocSet.buildbin-libdir && E:\biocbuild\bbs-3.19-bioc\R\bin\R.exe CMD INSTALL --build --library=BiocSet.buildbin-libdir BiocSet_1.18.0.tar.gz StartedAt: 2024-10-17 07:24:48 -0400 (Thu, 17 Oct 2024) EndedAt: 2024-10-17 07:25:52 -0400 (Thu, 17 Oct 2024) EllapsedTime: 63.3 seconds RetCode: 0 Status: OK PackageFile: BiocSet_1.18.0.zip PackageFileSize: 778.6 KiB