Package: BiocSet Version: 1.18.0 Command: /home/biocbuild/R/R-beta-2024-04-15_r86425/bin/R CMD check --install=check:BiocSet.install-out.txt --library=/home/biocbuild/R/R-beta-2024-04-15_r86425/site-library --no-vignettes --timings BiocSet_1.18.0.tar.gz StartedAt: 2024-05-09 05:13:33 -0000 (Thu, 09 May 2024) EndedAt: 2024-05-09 05:20:33 -0000 (Thu, 09 May 2024) EllapsedTime: 420.0 seconds RetCode: 1 Status: ERROR CheckDir: BiocSet.Rcheck Warnings: NA